BEGIN:VCALENDAR
VERSION:2.0
PRODID:-//House of Hope Church - ECPv6.15.17.1//NONSGML v1.0//EN
CALSCALE:GREGORIAN
METHOD:PUBLISH
X-WR-CALNAME:House of Hope Church
X-ORIGINAL-URL:https://www.hohchurch.org
X-WR-CALDESC:Events for House of Hope Church
REFRESH-INTERVAL;VALUE=DURATION:PT1H
X-Robots-Tag:noindex
X-PUBLISHED-TTL:PT1H
BEGIN:VTIMEZONE
TZID:America/Chicago
BEGIN:DAYLIGHT
TZOFFSETFROM:-0600
TZOFFSETTO:-0500
TZNAME:CDT
DTSTART:20240310T080000
END:DAYLIGHT
BEGIN:STANDARD
TZOFFSETFROM:-0500
TZOFFSETTO:-0600
TZNAME:CST
DTSTART:20241103T070000
END:STANDARD
BEGIN:DAYLIGHT
TZOFFSETFROM:-0600
TZOFFSETTO:-0500
TZNAME:CDT
DTSTART:20250309T080000
END:DAYLIGHT
BEGIN:STANDARD
TZOFFSETFROM:-0500
TZOFFSETTO:-0600
TZNAME:CST
DTSTART:20251102T070000
END:STANDARD
BEGIN:DAYLIGHT
TZOFFSETFROM:-0600
TZOFFSETTO:-0500
TZNAME:CDT
DTSTART:20260308T080000
END:DAYLIGHT
BEGIN:STANDARD
TZOFFSETFROM:-0500
TZOFFSETTO:-0600
TZNAME:CST
DTSTART:20261101T070000
END:STANDARD
END:VTIMEZONE
BEGIN:VEVENT
DTSTART;TZID=America/Chicago:20251026T100000
DTEND;TZID=America/Chicago:20251026T100000
DTSTAMP:20260423T142245
CREATED:20231009T184227Z
LAST-MODIFIED:20260228T214010Z
UID:10006859-1761472800-1761472800@www.hohchurch.org
SUMMARY:Worship
DESCRIPTION:
URL:https://www.hohchurch.org/event/worship-15/2025-10-26/
LOCATION:Sanctuary\, 797 Summit Ave\, St. Paul\, MN\, 55105\, United States
GEO:36.1184563;-95.8970454
X-APPLE-STRUCTURED-LOCATION;VALUE=URI;X-ADDRESS=Sanctuary 797 Summit Ave St. Paul MN 55105 United States;X-APPLE-RADIUS=500;X-TITLE=797 Summit Ave:geo:-95.8970454,36.1184563
END:VEVENT
BEGIN:VEVENT
DTSTART;TZID=America/Chicago:20251024T131500
DTEND;TZID=America/Chicago:20251024T170000
DTSTAMP:20260423T142245
CREATED:20250504T122203Z
LAST-MODIFIED:20250505T195043Z
UID:10008205-1761311700-1761325200@www.hohchurch.org
SUMMARY:Saint Paul Farmers' Market
DESCRIPTION:The Saint Paul Farmers’ Market will be in House of Hope’s Summit Avenue parking lot on Fridays through October. The parking lot is located at the corner of Summit Avenue and Grotto Street.
URL:https://www.hohchurch.org/event/saint-paul-farmers-market-2/2025-10-24/
LOCATION:HOH Summit Avenue Parking Lot
END:VEVENT
BEGIN:VEVENT
DTSTART;TZID=America/Chicago:20251024T090000
DTEND;TZID=America/Chicago:20251024T101500
DTSTAMP:20260423T142245
CREATED:20200908T195307Z
LAST-MODIFIED:20230201T210952Z
UID:10007611-1761296400-1761300900@www.hohchurch.org
SUMMARY:Friday Centering Prayer
DESCRIPTION:House of Hope offers Centering Prayer worship every Friday morning at 9 a.m. led by Linda Lane on Zoom. Centering Prayer is an opportunity to rest in God’s presence and invites all to nurture spiritual practices to enhance life’s journey. \nJoin Zoom Meeting\nhttps://us02web.zoom.us/j/85663520019?pwd=Z0ZMdEZOT3BjSUxoaDJoNTBkREo4UT09 \nMeeting ID: 856 6352 0019\nPasscode: 067786 \n\nOne tap mobile\n+13017158592\,\,85663520019# US (Germantown)\n+13126266799\,\,85663520019# US (Chicago) \nDial by your location\n+1 301 715 8592 US (Germantown)\n+1 312 626 6799 US (Chicago)\n+1 929 205 6099 US (New York)\n+1 253 215 8782 US (Tacoma)\n+1 346 248 7799 US (Houston)\n+1 669 900 6833 US (San Jose)\n833 548 0282 US Toll-free\n877 853 5247 US Toll-free\n888 788 0099 US Toll-free\n833 548 0276 US Toll-free\nMeeting ID: 856 6352 0019\nFind your local number: https://us02web.zoom.us/u/kbSIvoVdvM
URL:https://www.hohchurch.org/event/friday-centering-prayer-4/2025-10-24/
LOCATION:Zoom Meeting
CATEGORIES:Off-site
GEO:44.9419151;-93.133193
END:VEVENT
BEGIN:VEVENT
DTSTART;TZID=America/Chicago:20251024T080000
DTEND;TZID=America/Chicago:20251024T100000
DTSTAMP:20260423T142245
CREATED:20230412T195238Z
LAST-MODIFIED:20250820T163429Z
UID:10006581-1761292800-1761300000@www.hohchurch.org
SUMMARY:Women's Book Group
DESCRIPTION:
URL:https://www.hohchurch.org/event/womens-breakfast-group-5/2025-10-24/
LOCATION:Zoom Meeting
GEO:44.9419151;-93.133193
END:VEVENT
END:VCALENDAR